BEGIN:VCALENDAR
VERSION:2.0
PRODID:-//Accademia Olimpica - ECPv6.15.20//NONSGML v1.0//EN
CALSCALE:GREGORIAN
METHOD:PUBLISH
X-ORIGINAL-URL:https://accademiaolimpica.it
X-WR-CALDESC:Eventi per Accademia Olimpica
REFRESH-INTERVAL;VALUE=DURATION:PT1H
X-Robots-Tag:noindex
X-PUBLISHED-TTL:PT1H
BEGIN:VTIMEZONE
TZID:Europe/Rome
BEGIN:DAYLIGHT
TZOFFSETFROM:+0100
TZOFFSETTO:+0200
TZNAME:CEST
DTSTART:20240331T010000
END:DAYLIGHT
BEGIN:STANDARD
TZOFFSETFROM:+0200
TZOFFSETTO:+0100
TZNAME:CET
DTSTART:20241027T010000
END:STANDARD
BEGIN:DAYLIGHT
TZOFFSETFROM:+0100
TZOFFSETTO:+0200
TZNAME:CEST
DTSTART:20250330T010000
END:DAYLIGHT
BEGIN:STANDARD
TZOFFSETFROM:+0200
TZOFFSETTO:+0100
TZNAME:CET
DTSTART:20251026T010000
END:STANDARD
BEGIN:DAYLIGHT
TZOFFSETFROM:+0100
TZOFFSETTO:+0200
TZNAME:CEST
DTSTART:20260329T010000
END:DAYLIGHT
BEGIN:STANDARD
TZOFFSETFROM:+0200
TZOFFSETTO:+0100
TZNAME:CET
DTSTART:20261025T010000
END:STANDARD
END:VTIMEZONE
BEGIN:VEVENT
DTSTART;TZID=Europe/Rome:20250603T173000
DTEND;TZID=Europe/Rome:20250603T190000
DTSTAMP:20260423T145147
CREATED:20250515T082028Z
LAST-MODIFIED:20250528T104822Z
UID:10000079-1748971800-1748977200@accademiaolimpica.it
SUMMARY:Dialoghi di mezza estate: Giorgio Vallortigara e Paolo Legrenzi
DESCRIPTION:Dialogo intorno al tema La coscienza: perché ci accorgiamo di esistere? con il neuroscienziato Giorgio Vallortigara e lo psicologo cognitivo Paolo Legrenzi. \nL’appuntamento rientra nella terza edizione del ciclo firmato dall’Accademia Olimpica in collaborazione con Gallerie d’Italia – Vicenza\, Conservatorio «Arrigo Pedrollo»\, Comune di Vicenza e Biblioteca civica Bertoliana. \nPer saperne di più
URL:https://accademiaolimpica.it/evento/dialoghi-di-mezza-estate-giorgio-vallortigara-e-paolo-legrenzi/
LOCATION:Gallerie d’Italia – Vicenza\, Contrà Santa Corona\, 25\, Vicenza\, 36100\, Italia
CATEGORIES:Diritto ed Economia,Eventi,Lettere e Arti,Scienze e Tecnica
ORGANIZER;CN="Accademia Olimpica":MAILTO:segreteria@accademiaolimpica.it
END:VEVENT
BEGIN:VEVENT
DTSTART;TZID=Europe/Rome:20250605T173000
DTEND;TZID=Europe/Rome:20250605T190000
DTSTAMP:20260423T145147
CREATED:20250529T081539Z
LAST-MODIFIED:20250529T081539Z
UID:10000083-1749144600-1749150000@accademiaolimpica.it
SUMMARY:Presentazione del libro "Venezia tra storia\, sviluppo e sostenibilità"
DESCRIPTION:Con Luca Zan\, Franco Mancuso e Claudio Menichelli\, curatori del volume edito da il Mulino\, dialogherà il presidente dell’Accademia Olimpica\, Giovanni Luigi Fontana\, storico dell’economia. Il libro raccoglie i contributi di oltre trenta studiosi. \nPer saperne di più
URL:https://accademiaolimpica.it/evento/presentazione-del-libro-venezia-tra-storia-sviluppo-e-sostenibilita/
LOCATION:Gallerie d’Italia – Vicenza\, Contrà Santa Corona\, 25\, Vicenza\, 36100\, Italia
CATEGORIES:Diritto ed Economia,Eventi,Lettere e Arti,Scienze e Tecnica
ATTACH;FMTTYPE=image/jpeg:https://accademiaolimpica.it/wp-content/uploads/2025/05/venezia_libro_locandina.jpg
ORGANIZER;CN="Accademia Olimpica":MAILTO:segreteria@accademiaolimpica.it
END:VEVENT
BEGIN:VEVENT
DTSTART;TZID=Europe/Rome:20250610T093000
DTEND;TZID=Europe/Rome:20250610T190000
DTSTAMP:20260423T145147
CREATED:20250515T082336Z
LAST-MODIFIED:20250603T082018Z
UID:10000080-1749547800-1749582000@accademiaolimpica.it
SUMMARY:Dialoghi di mezza estate: Guido Barbujani e Giovanni Boniolo
DESCRIPTION:Il genetista Guido Barbujani e il filosofo della scienza Giovanni Boniolo si confrontano sulle trasformazioni che\, sall’alba della storia\, influenzano il nostro modo di mangiare\, di vestire\, di lavorare e di confrontarci con gli altri. \nL’appuntamento rientra nella terza edizione del ciclo firmato dall’Accademia Olimpica in collaborazione con Gallerie d’Italia – Vicenza\, Conservatorio «Arrigo Pedrollo»\, Comune di Vicenza e Biblioteca civica Bertoliana. \nPer saperne di più
URL:https://accademiaolimpica.it/evento/dialoghi-di-mezza-estate-guido-barbujani-e-giovanni-boniolo/
LOCATION:Gallerie d’Italia – Vicenza\, Contrà Santa Corona\, 25\, Vicenza\, 36100\, Italia
CATEGORIES:Diritto ed Economia,Eventi,Lettere e Arti,Scienze e Tecnica
ORGANIZER;CN="Accademia Olimpica":MAILTO:segreteria@accademiaolimpica.it
END:VEVENT
BEGIN:VEVENT
DTSTART;TZID=Europe/Rome:20250612T160000
DTEND;TZID=Europe/Rome:20250612T190000
DTSTAMP:20260423T145147
CREATED:20250529T085854Z
LAST-MODIFIED:20250604T124540Z
UID:10000084-1749744000-1749754800@accademiaolimpica.it
SUMMARY:Tra archivio e tipografia: nuovi riscontri su Antonio Fogazzaro
DESCRIPTION:Un pomeriggio di studi su Antonio Fogazzaro partendo da due recenti pubblicazioni: Fedele ed altri racconti\, pubblicato dall’Edizione nazionale delle opere di Fogazzaro\, che ha la propria sede pressol’Accademia Olimpica di Vicenza; e «Gina mia carissima». Carteggio tra Antonio Fogazzaro e sua figlia (1875-1910)\, edito dall’Accademia nel febbraio scorso. \nIn apertura dell’incontro\, l’ufficializzazione della donazione all’Accademia di un carteggio tra Fogazzaro e la suocera\, Giuseppina Lampertico Valmarana\, da parte delle eredi Valmarana. \nPer saperne di più
URL:https://accademiaolimpica.it/evento/tra-archivio-e-tipografia-nuovi-riscontri-su-antonio-fogazzaro/
LOCATION:Odeo del Teatro Olimpico\, Largo Goethe\, 3\, Vicenza\, 36100\, Italia
CATEGORIES:Diritto ed Economia,Eventi,Lettere e Arti,Scienze e Tecnica
ATTACH;FMTTYPE=image/jpeg:https://accademiaolimpica.it/wp-content/uploads/2021/08/Antonio_Fogazzaro-per-sito.jpg
ORGANIZER;CN="Accademia Olimpica":MAILTO:segreteria@accademiaolimpica.it
END:VEVENT
BEGIN:VEVENT
DTSTART;TZID=Europe/Rome:20250613T143000
DTEND;TZID=Europe/Rome:20250613T191500
DTSTAMP:20260423T145147
CREATED:20250529T090109Z
LAST-MODIFIED:20250529T090109Z
UID:10000085-1749825000-1749842100@accademiaolimpica.it
SUMMARY:Educare alla politica\, oggi
DESCRIPTION:Evento in definizione.
URL:https://accademiaolimpica.it/evento/educare-alla-politica-oggi/
LOCATION:Biblioteca civica Bertoliana\, Contrà Riale\, 12\, Vicenza
CATEGORIES:Diritto ed Economia,Eventi,Lettere e Arti,Scienze e Tecnica
ORGANIZER;CN="Accademia Olimpica":MAILTO:segreteria@accademiaolimpica.it
END:VEVENT
BEGIN:VEVENT
DTSTART;VALUE=DATE:20250614
DTEND;VALUE=DATE:20250615
DTSTAMP:20260423T145147
CREATED:20250529T090442Z
LAST-MODIFIED:20250604T085734Z
UID:10000086-1749859200-1749945599@accademiaolimpica.it
SUMMARY:Giornata in ricordo di Alberto Broglio
DESCRIPTION:Tra grotte\, selci e palafitte. Un omaggio ad Alberto Broglio nei suoi Berici. \nPer saperne di più
URL:https://accademiaolimpica.it/evento/giornata-in-ricordo-di-alberto-broglio-2/
LOCATION:Barbarano Vicentino\, Italia
CATEGORIES:Diritto ed Economia,Eventi,Lettere e Arti,Scienze e Tecnica
ORGANIZER;CN="Accademia Olimpica":MAILTO:segreteria@accademiaolimpica.it
END:VEVENT
BEGIN:VEVENT
DTSTART;TZID=Europe/Rome:20250621T173000
DTEND;TZID=Europe/Rome:20250621T193000
DTSTAMP:20260423T145147
CREATED:20250529T090615Z
LAST-MODIFIED:20250616T101459Z
UID:10000087-1750527000-1750534200@accademiaolimpica.it
SUMMARY:Cerimonia di chiusura dell'anno accademico 2024-2025
DESCRIPTION:Per saperne di più
URL:https://accademiaolimpica.it/evento/cerimonia-di-chiusura-dellanno-accademico-2024-2025/
LOCATION:Teatro Olimpico\, Largo Goethe\, 3\, Vicenza\, 36100\, Italia
CATEGORIES:Diritto ed Economia,Eventi,Lettere e Arti,Scienze e Tecnica
ORGANIZER;CN="Accademia Olimpica":MAILTO:segreteria@accademiaolimpica.it
END:VEVENT
END:VCALENDAR