BEGIN:VCALENDAR
VERSION:2.0
PRODID:-//Accademia Olimpica - ECPv6.15.20//NONSGML v1.0//EN
CALSCALE:GREGORIAN
METHOD:PUBLISH
X-ORIGINAL-URL:https://accademiaolimpica.it
X-WR-CALDESC:Eventi per Accademia Olimpica
REFRESH-INTERVAL;VALUE=DURATION:PT1H
X-Robots-Tag:noindex
X-PUBLISHED-TTL:PT1H
BEGIN:VTIMEZONE
TZID:Europe/Rome
BEGIN:DAYLIGHT
TZOFFSETFROM:+0100
TZOFFSETTO:+0200
TZNAME:CEST
DTSTART:20230326T010000
END:DAYLIGHT
BEGIN:STANDARD
TZOFFSETFROM:+0200
TZOFFSETTO:+0100
TZNAME:CET
DTSTART:20231029T010000
END:STANDARD
BEGIN:DAYLIGHT
TZOFFSETFROM:+0100
TZOFFSETTO:+0200
TZNAME:CEST
DTSTART:20240331T010000
END:DAYLIGHT
BEGIN:STANDARD
TZOFFSETFROM:+0200
TZOFFSETTO:+0100
TZNAME:CET
DTSTART:20241027T010000
END:STANDARD
BEGIN:DAYLIGHT
TZOFFSETFROM:+0100
TZOFFSETTO:+0200
TZNAME:CEST
DTSTART:20250330T010000
END:DAYLIGHT
BEGIN:STANDARD
TZOFFSETFROM:+0200
TZOFFSETTO:+0100
TZNAME:CET
DTSTART:20251026T010000
END:STANDARD
END:VTIMEZONE
BEGIN:VEVENT
DTSTART;VALUE=DATE:20241204
DTEND;VALUE=DATE:20241209
DTSTAMP:20260423T232922
CREATED:20241126T144945Z
LAST-MODIFIED:20241126T145904Z
UID:10000055-1733270400-1733702399@accademiaolimpica.it
SUMMARY:Fiera dell'editoria Più Libri Più Liberi - Roma
DESCRIPTION:L’Accademia Olimpica partecipa alla Fiera della piccola e media editoria Più Libri Più Liberi\, in programma a Roma dal 4 all’8 dicembre.\nPer saperne di più leggi qui
URL:https://accademiaolimpica.it/evento/fiera-delleditoria-piu-libri-piu-liberi-roma/
LOCATION:Nuovo Centro Congressi\, viale Asia 40/44\, Roma\, Italia
CATEGORIES:Diritto ed Economia,Eventi,Lettere e Arti,Scienze e Tecnica
ORGANIZER;CN="Accademia Olimpica":MAILTO:segreteria@accademiaolimpica.it
END:VEVENT
BEGIN:VEVENT
DTSTART;TZID=Europe/Rome:20241210T080000
DTEND;TZID=Europe/Rome:20241210T170000
DTSTAMP:20260423T232922
CREATED:20241210T091713Z
LAST-MODIFIED:20241212T091609Z
UID:10000057-1733817600-1733850000@accademiaolimpica.it
SUMMARY:Presentazione del libro "Illustri scledensi"
DESCRIPTION:Il libro Illustri scledensi di Edoardo Ghiotto\, pubblicato in questi giorni dall’Accademia Olimpica\, sarà presentato giovedì 19 dicembre alle 20.30 nella Sala Calendoli del Teatro Civico di Schio. Con l’autore dialogheranno Giovanni Luigi Fontana\, presidente dell’Accademia Olimpica\, e l’accademico Mariano Nardello.\nIngresso libero fino a esaurimento dei posti disponibili.\nPer saperne di più
URL:https://accademiaolimpica.it/evento/presentazione-del-libro-illustri-scledensi/
CATEGORIES:Diritto ed Economia,Eventi,Lettere e Arti,Scienze e Tecnica
ORGANIZER;CN="Accademia Olimpica":MAILTO:segreteria@accademiaolimpica.it
END:VEVENT
BEGIN:VEVENT
DTSTART;TZID=Europe/Rome:20241213T173000
DTEND;TZID=Europe/Rome:20241213T190000
DTSTAMP:20260423T232922
CREATED:20241129T141232Z
LAST-MODIFIED:20241210T091420Z
UID:10000056-1734111000-1734116400@accademiaolimpica.it
SUMMARY:Marco Polo e le sue città
DESCRIPTION:Evento organizzato in collaborazione con Gallerie d’Italia – Vicenza in occasione del settimo centenario della morte del celebre veneziano. Con Ermanno Orlando\, Francesco Bianchi e Giovanni Luigi Fontana\, presidente dell’Accademia Olimpica.\nPer saperne di più
URL:https://accademiaolimpica.it/evento/marco-polo-e-le-sue-citta/
LOCATION:Gallerie d’Italia – Vicenza\, Contrà Santa Corona\, 25\, Vicenza\, 36100\, Italia
CATEGORIES:Diritto ed Economia,Lettere e Arti,Scienze e Tecnica
ORGANIZER;CN="Accademia Olimpica":MAILTO:segreteria@accademiaolimpica.it
END:VEVENT
END:VCALENDAR