BEGIN:VCALENDAR
VERSION:2.0
PRODID:-//Accademia Olimpica - ECPv6.15.20//NONSGML v1.0//EN
CALSCALE:GREGORIAN
METHOD:PUBLISH
X-ORIGINAL-URL:https://accademiaolimpica.it
X-WR-CALDESC:Eventi per Accademia Olimpica
REFRESH-INTERVAL;VALUE=DURATION:PT1H
X-Robots-Tag:noindex
X-PUBLISHED-TTL:PT1H
BEGIN:VTIMEZONE
TZID:Europe/Rome
BEGIN:DAYLIGHT
TZOFFSETFROM:+0100
TZOFFSETTO:+0200
TZNAME:CEST
DTSTART:20230326T010000
END:DAYLIGHT
BEGIN:STANDARD
TZOFFSETFROM:+0200
TZOFFSETTO:+0100
TZNAME:CET
DTSTART:20231029T010000
END:STANDARD
BEGIN:DAYLIGHT
TZOFFSETFROM:+0100
TZOFFSETTO:+0200
TZNAME:CEST
DTSTART:20240331T010000
END:DAYLIGHT
BEGIN:STANDARD
TZOFFSETFROM:+0200
TZOFFSETTO:+0100
TZNAME:CET
DTSTART:20241027T010000
END:STANDARD
BEGIN:DAYLIGHT
TZOFFSETFROM:+0100
TZOFFSETTO:+0200
TZNAME:CEST
DTSTART:20250330T010000
END:DAYLIGHT
BEGIN:STANDARD
TZOFFSETFROM:+0200
TZOFFSETTO:+0100
TZNAME:CET
DTSTART:20251026T010000
END:STANDARD
END:VTIMEZONE
BEGIN:VEVENT
DTSTART;TZID=Europe/Rome:20241019T100000
DTEND;TZID=Europe/Rome:20241019T190000
DTSTAMP:20260424T024812
CREATED:20241004T174316Z
LAST-MODIFIED:20241015T090049Z
UID:10000048-1729332000-1729364400@accademiaolimpica.it
SUMMARY:Giornata in ricordo di Alberto Broglio
DESCRIPTION:Evento itinerante in alcuni centri dell’Area Berica\, alla scoperta di quelli che furono tra i primi di siti oggetto di ricerca da parte dell’accademico Alberto Broglio\, scomparso nel 2023\, tra i più importanti studiosi italiani di Preistoria.\nPer saperne di più
URL:https://accademiaolimpica.it/evento/giornata-in-ricordo-di-alberto-broglio/
LOCATION:Barbarano Vicentino\, Italia
CATEGORIES:Eventi,Scienze e Tecnica
ATTACH;FMTTYPE=image/jpeg:https://accademiaolimpica.it/wp-content/uploads/2019/05/Broglio02.jpg
ORGANIZER;CN="Accademia Olimpica":MAILTO:segreteria@accademiaolimpica.it
END:VEVENT
BEGIN:VEVENT
DTSTART;TZID=Europe/Rome:20241024T180000
DTEND;TZID=Europe/Rome:20241024T193000
DTSTAMP:20260424T024812
CREATED:20240917T115628Z
LAST-MODIFIED:20240924T124902Z
UID:10000041-1729792800-1729798200@accademiaolimpica.it
SUMMARY:Osservatorio Europa: cinque incontri con Accademia e Alda
DESCRIPTION:Accademia Olimpica e ALDA – Associazione europea per la democrazia locale propongono a Vicenza Osservatorio Europa\, un ciclo di incontri pensato per approfondire alcune fra le tematiche di maggiore impatto e di più stringente attualità per i cittadini\, le istituzioni e le imprese in un momento tra i più complessi e delicati nella storia politica\, economica e sociale dell’Unione Europea. \nDue tematiche di grande attualità quali La politica agricola europea e la crisi del Green New Deal saranno al centro dell’incontro di giovedì 24 ottobre\, alle 18\, nella sala Dalla Pozza di Palazzo Cordellina\, sede della Biblioteca civica Bertoliana\, in contrà Riale\, 12. Con l’introduzione e il coordinamento di Giustino Mezzalira\, presidente della Classe di Scienze e tecnica dell’Accademia\, ne parleranno Antonio Boschetti\, direttore della testata di settore “Informatore Agrario”\, e Anna Trettenero di Confagricoltura Vicenza. \nIngresso libero fino a esaurimento dei posti disponibili.\nDiretta streaming dalla pagina Facebook di ALDA Europe.
URL:https://accademiaolimpica.it/evento/osservatorio-europa-cinque-incontri-con-accademia-e-alda-3/
CATEGORIES:Diritto ed Economia,Eventi,Lettere e Arti,Scienze e Tecnica
ATTACH;FMTTYPE=image/jpeg:https://accademiaolimpica.it/wp-content/uploads/2024/09/europa_libero-utilizzo-e1726241405360.jpg
ORGANIZER;CN="Accademia Olimpica":MAILTO:segreteria@accademiaolimpica.it
END:VEVENT
BEGIN:VEVENT
DTSTART;TZID=Europe/Rome:20241025T173000
DTEND;TZID=Europe/Rome:20241025T190000
DTSTAMP:20260424T024812
CREATED:20240917T115912Z
LAST-MODIFIED:20240917T115912Z
UID:10000042-1729877400-1729882800@accademiaolimpica.it
SUMMARY:Osservatorio Europa: cinque incontri con Accademia e ALDA
DESCRIPTION:Accademia Olimpica e ALDA – Associazione europea per la democrazia locale propongono a Vicenza Osservatorio Europa\, un ciclo di incontri pensato per approfondire alcune fra le tematiche di maggiore impatto e di più stringente attualità per i cittadini\, le istituzioni e le imprese in un momento tra i più complessi e delicati nella storia politica\, economica e sociale dell’Unione Europea. \nVenerdì 25 ottobre\, nella sede di Palazzo Cordellina della Biblioteca civica Bertoliana con inizio alle 17.30\, appuntmento con il senatore Enrico Letta. Prendendo spunto dalla sua recente pubblicazione Molto più di un mercato (il Mulino)\, l’incontro permetterà una riflessione sul senso stesso dell’Unione Europea negli attuali scenari geopolitici in rapida trasformazione\, a partire dalla costruzione di un mercato unico che fin dalle origini è sempre stata collegata ad obiettivi e cambiamenti strategici nella vita dell’Unione. Ad affrontare il tema saranno\, con Letta\, gli accademici olimpici ed economisti Gilberto Muraro e Andrea Lionzo\, con il coordinamento di Giovanni Luigi Fontana. \nIngresso libero fino a esaurimento dei posti disponibili.\nDiretta streaming dalla pagina Facebook di ALDA Europe.
URL:https://accademiaolimpica.it/evento/osservatorio-europa-cinque-incontri-con-accademia-e-alda-4/
CATEGORIES:Diritto ed Economia,Eventi,Lettere e Arti,Scienze e Tecnica
ATTACH;FMTTYPE=image/jpeg:https://accademiaolimpica.it/wp-content/uploads/2024/09/europa_libero-utilizzo-e1726241405360.jpg
ORGANIZER;CN="Accademia Olimpica":MAILTO:segreteria@accademiaolimpica.it
END:VEVENT
BEGIN:VEVENT
DTSTART;TZID=Europe/Rome:20241030T180000
DTEND;TZID=Europe/Rome:20241030T193000
DTSTAMP:20260424T024812
CREATED:20240917T120109Z
LAST-MODIFIED:20241015T142314Z
UID:10000043-1730311200-1730316600@accademiaolimpica.it
SUMMARY:Osservatorio Europa: cinque incontri con Accademia e ALDA
DESCRIPTION:Accademia Olimpica e ALDA – Associazione europea per la democrazia locale propongono a Vicenza Osservatorio Europa\, un ciclo di incontri pensato per approfondire alcune fra le tematiche di maggiore impatto e di più stringente attualità per i cittadini\, le istituzioni e le imprese in un momento tra i più complessi e delicati nella storia politica\, economica e sociale dell’Unione Europea. \nLa difficile affermazione di giovani e donne nel lavoro in Italia rispetto al contesto europeo sarà il tema dell’incontro conclusivo del ciclo\, in programma mercoledì 30 ottobre alle 18 in Bertoliana. A parlarne saranno Linda Laura Sabbadini\, pioniera degli studi di genere in Italia\, già direttrice del Dipartimento dell’Istat per lo sviluppo di metodi e tecnologie per la produzione e diffusione dell’informazione statistica ed autorevole opinionista sui maggiori organi di stampa. A dialogare con lei saranno\, con il coordinamento di Giovanni Luigi Fontana\, Sara Afendi per ALDA e gli accademici olimpici Chiara Volpato\, psicologa sociale\, e Ilvo Diamanti. \nIngresso libero fino a esaurimento dei posti disponibili.\nDiretta streaming dalla pagina Facebook di ALDA Europe.
URL:https://accademiaolimpica.it/evento/osservatorio-europa-cinque-incontri-con-accademia-e-alda-5/
CATEGORIES:Diritto ed Economia,Eventi,Lettere e Arti,Scienze e Tecnica
ATTACH;FMTTYPE=image/jpeg:https://accademiaolimpica.it/wp-content/uploads/2024/09/europa_libero-utilizzo-e1726241405360.jpg
ORGANIZER;CN="Accademia Olimpica":MAILTO:segreteria@accademiaolimpica.it
END:VEVENT
END:VCALENDAR