BEGIN:VCALENDAR
VERSION:2.0
PRODID:-//Accademia Olimpica - ECPv6.15.20//NONSGML v1.0//EN
CALSCALE:GREGORIAN
METHOD:PUBLISH
X-ORIGINAL-URL:https://accademiaolimpica.it
X-WR-CALDESC:Eventi per Accademia Olimpica
REFRESH-INTERVAL;VALUE=DURATION:PT1H
X-Robots-Tag:noindex
X-PUBLISHED-TTL:PT1H
BEGIN:VTIMEZONE
TZID:Europe/Rome
BEGIN:DAYLIGHT
TZOFFSETFROM:+0100
TZOFFSETTO:+0200
TZNAME:CEST
DTSTART:20240331T010000
END:DAYLIGHT
BEGIN:STANDARD
TZOFFSETFROM:+0200
TZOFFSETTO:+0100
TZNAME:CET
DTSTART:20241027T010000
END:STANDARD
BEGIN:DAYLIGHT
TZOFFSETFROM:+0100
TZOFFSETTO:+0200
TZNAME:CEST
DTSTART:20250330T010000
END:DAYLIGHT
BEGIN:STANDARD
TZOFFSETFROM:+0200
TZOFFSETTO:+0100
TZNAME:CET
DTSTART:20251026T010000
END:STANDARD
BEGIN:DAYLIGHT
TZOFFSETFROM:+0100
TZOFFSETTO:+0200
TZNAME:CEST
DTSTART:20260329T010000
END:DAYLIGHT
BEGIN:STANDARD
TZOFFSETFROM:+0200
TZOFFSETTO:+0100
TZNAME:CET
DTSTART:20261025T010000
END:STANDARD
END:VTIMEZONE
BEGIN:VEVENT
DTSTART;TZID=Europe/Rome:20250528T180000
DTEND;TZID=Europe/Rome:20250528T193000
DTSTAMP:20260423T163250
CREATED:20250522T162714Z
LAST-MODIFIED:20250522T162718Z
UID:10000082-1748455200-1748460600@accademiaolimpica.it
SUMMARY:Donato Bendicenti e l'Europa in un mondo che cambia
DESCRIPTION:Donato Bendicenti\, responsabile della Sede di Corrispondenza Rai di Bruxelles\, presenta a Vicenza\, per iniziativa dell’Accademia OLimpica\, il suo nuovo libro: Al centro della tempesta. L’Europa tra ordine mondiale e disordine globale\, pubblicato da Rai Libri – Luiss University Press.\nDialogheranno con lui Giovanni Luigi Fontana\, presidente dell’Accademia\, e gli accademici olimpici Ilvo Diamanti\, sociologo e politologo\, e Patrizia Messina\, docente del Dipartimento di Scienze politiche dell’Università di Padova. \nPer saperne di più
URL:https://accademiaolimpica.it/evento/donato-bendicenti-e-leuropa-in-un-mondo-che-cambia/
LOCATION:Odeo del Teatro Olimpico\, Largo Goethe\, 3\, Vicenza\, 36100\, Italia
CATEGORIES:Diritto ed Economia,Eventi,Lettere e Arti,Scienze e Tecnica
ATTACH;FMTTYPE=image/jpeg:https://accademiaolimpica.it/wp-content/uploads/2025/05/DBendicenti.jpg
ORGANIZER;CN="Accademia Olimpica":MAILTO:segreteria@accademiaolimpica.it
END:VEVENT
END:VCALENDAR