BEGIN:VCALENDAR
VERSION:2.0
PRODID:-//Accademia Olimpica - ECPv6.15.20//NONSGML v1.0//EN
CALSCALE:GREGORIAN
METHOD:PUBLISH
X-ORIGINAL-URL:https://accademiaolimpica.it
X-WR-CALDESC:Eventi per Accademia Olimpica
REFRESH-INTERVAL;VALUE=DURATION:PT1H
X-Robots-Tag:noindex
X-PUBLISHED-TTL:PT1H
BEGIN:VTIMEZONE
TZID:Europe/Rome
BEGIN:DAYLIGHT
TZOFFSETFROM:+0100
TZOFFSETTO:+0200
TZNAME:CEST
DTSTART:20240331T010000
END:DAYLIGHT
BEGIN:STANDARD
TZOFFSETFROM:+0200
TZOFFSETTO:+0100
TZNAME:CET
DTSTART:20241027T010000
END:STANDARD
BEGIN:DAYLIGHT
TZOFFSETFROM:+0100
TZOFFSETTO:+0200
TZNAME:CEST
DTSTART:20250330T010000
END:DAYLIGHT
BEGIN:STANDARD
TZOFFSETFROM:+0200
TZOFFSETTO:+0100
TZNAME:CET
DTSTART:20251026T010000
END:STANDARD
BEGIN:DAYLIGHT
TZOFFSETFROM:+0100
TZOFFSETTO:+0200
TZNAME:CEST
DTSTART:20260329T010000
END:DAYLIGHT
BEGIN:STANDARD
TZOFFSETFROM:+0200
TZOFFSETTO:+0100
TZNAME:CET
DTSTART:20261025T010000
END:STANDARD
END:VTIMEZONE
BEGIN:VEVENT
DTSTART;TZID=Europe/Rome:20250507T173000
DTEND;TZID=Europe/Rome:20250507T190000
DTSTAMP:20260423T162454
CREATED:20250410T105543Z
LAST-MODIFIED:20250410T105616Z
UID:10000071-1746639000-1746644400@accademiaolimpica.it
SUMMARY:Salute circolare: La salute del pianeta - Incontro con Andrea Garolla
DESCRIPTION:Terzo incontro in programma. \nQui il programma completo
URL:https://accademiaolimpica.it/evento/salute-circolare-la-salute-del-pianeta-incontro-con-andrea-garolla/
LOCATION:Gallerie d’Italia – Vicenza\, Contrà Santa Corona\, 25\, Vicenza\, 36100\, Italia
CATEGORIES:Diritto ed Economia,Eventi,Lettere e Arti,Scienze e Tecnica
ORGANIZER;CN="Accademia Olimpica":MAILTO:segreteria@accademiaolimpica.it
END:VEVENT
BEGIN:VEVENT
DTSTART;TZID=Europe/Rome:20250508T173000
DTEND;TZID=Europe/Rome:20250508T190000
DTSTAMP:20260423T162454
CREATED:20250501T102710Z
LAST-MODIFIED:20250501T142740Z
UID:10000074-1746725400-1746730800@accademiaolimpica.it
SUMMARY:Il pane e il mercato del grano\, con Carlo Fumian\, Daniele  Franco e Giorgio Riello
DESCRIPTION:Presentazione del libro Pane quotidiano. L’invisibile mercato mondiale del grano tra XIX e XX secolo (Editore Donzelli)\, di Carlo Fumian\, professore emerito di Storia contemporanea all’Università di Padova.\nDialogano con l’autore gli accademici olimpici Daniele Franco\, economista\, già direttore generale della Banca d’Italia e ministro dell’Economia durante il governo Draghi (2020-2021)\, e Giorgio Riello\, direttore del Dipartimento di Storia dell’European University Institute.\nIntroduzione e coordinamento di Giovanni Luigi Fontana\, presidente dell’Accademia Olimpica e storico dell’economia. \nIngresso libero fino a esaurimento dei posti disponibili. L’evento rientra anche nel programma di iniziative “Vicenza Città che Legge”\, cui ha aderito il Comune di Vicenza. Per informazioni scrivere a segreteria@accademiaolimpica.it. \nPer saperne di più
URL:https://accademiaolimpica.it/evento/il-pane-e-il-mercato-del-grano-con-carlo-fumian-daniele-franco-e-giorgio-riello/
LOCATION:Odeo del Teatro Olimpico\, Largo Goethe\, 3\, Vicenza\, 36100\, Italia
CATEGORIES:Diritto ed Economia,Eventi,Lettere e Arti,Scienze e Tecnica
ATTACH;FMTTYPE=image/jpeg:https://accademiaolimpica.it/wp-content/uploads/2025/05/copertina-fumian.jpg
ORGANIZER;CN="Accademia Olimpica":MAILTO:segreteria@accademiaolimpica.it
END:VEVENT
BEGIN:VEVENT
DTSTART;TZID=Europe/Rome:20250513T173000
DTEND;TZID=Europe/Rome:20250513T190000
DTSTAMP:20260423T162454
CREATED:20250410T105917Z
LAST-MODIFIED:20250507T093521Z
UID:10000072-1747157400-1747162800@accademiaolimpica.it
SUMMARY:Salute circolare: La salute del pianeta - Incontro con Ilaria Capua
DESCRIPTION:Quarto e ultimo incontro in programma. \nQui ulteriori informazioni sull’appuntamento \nQui il calendario completo
URL:https://accademiaolimpica.it/evento/salute-circolare-la-salute-del-pianeta-incontro-con-ilaria-capua/
LOCATION:Conservatorio Pedrollo – Vicenza\, contrà San Domenico\, 33\, Vicenza\, Italia
CATEGORIES:Diritto ed Economia,Eventi,Lettere e Arti,Scienze e Tecnica
ORGANIZER;CN="Accademia Olimpica":MAILTO:segreteria@accademiaolimpica.it
END:VEVENT
BEGIN:VEVENT
DTSTART;TZID=Europe/Rome:20250515T100000
DTEND;TZID=Europe/Rome:20250515T213000
DTSTAMP:20260423T162454
CREATED:20250512T095528Z
LAST-MODIFIED:20250512T095655Z
UID:10000076-1747303200-1747344600@accademiaolimpica.it
SUMMARY:Giornata dedicata ad Alessandro Faedo
DESCRIPTION:Tre eventi in programma\, per ripercorrere la sua attività di matematico\, docente e politico.\nIn mattinata\, incontro per le scuole a Chiampo; alle 17 in Sala Stucchi a Vicenza; alle 20.30 di nuovo a Chiampo\, nella sala consiliare.\nNell’occasione sarà anche presentato il libro biografico scritto a Angelo Guerraggio\, edito dall’Accademia Olimpica. \nPer saperne di più
URL:https://accademiaolimpica.it/evento/giornata-dedicata-ad-alessandro-faedo-2/
CATEGORIES:Diritto ed Economia,Eventi,Lettere e Arti,Scienze e Tecnica
ATTACH;FMTTYPE=image/jpeg:https://accademiaolimpica.it/wp-content/uploads/2025/05/faedo_copertina.jpg.jpg
ORGANIZER;CN="Accademia Olimpica":MAILTO:segreteria@accademiaolimpica.it
END:VEVENT
BEGIN:VEVENT
DTSTART;TZID=Europe/Rome:20250515T100000
DTEND;TZID=Europe/Rome:20250515T220000
DTSTAMP:20260423T162454
CREATED:20250505T104456Z
LAST-MODIFIED:20250505T104456Z
UID:10000075-1747303200-1747346400@accademiaolimpica.it
SUMMARY:Giornata dedicata ad Alessandro Faedo
DESCRIPTION:Una giornata dedicata ad Alessandro Faedo\, senatore\, presidente dell’Accademia Olimpica (1991-1994)\, docente universitario\, presidente del Consiglio Nazionale delle Ricerche (CNR) e\, come tale\, principale promotore e coordinatore della ricerca scientifica e delle sinergie tra università e imprese. \nLa giornata si articolerà tra Chiampo\, sua città natale\, e Vicenza. \nIn programma anche la presentazione del libro Alessandro Faedo. Una vita per la matematica di Angelo Guerraggio\, edito dall’Accademia Olimpica. \nA breve il programma completo.
URL:https://accademiaolimpica.it/evento/giornata-dedicata-ad-alessandro-faedo/
CATEGORIES:Diritto ed Economia,Eventi,Lettere e Arti,Scienze e Tecnica
ATTACH;FMTTYPE=image/jpeg:https://accademiaolimpica.it/wp-content/uploads/2025/05/Q44-Faedo.jpg
ORGANIZER;CN="Accademia Olimpica":MAILTO:segreteria@accademiaolimpica.it
END:VEVENT
BEGIN:VEVENT
DTSTART;TZID=Europe/Rome:20250520T173000
DTEND;TZID=Europe/Rome:20250520T190000
DTSTAMP:20260423T162454
CREATED:20250515T081019Z
LAST-MODIFIED:20250515T082943Z
UID:10000077-1747762200-1747767600@accademiaolimpica.it
SUMMARY:Dialoghi di mezza estate: Marcello Ghilardi e Pierantonio Tanzola
DESCRIPTION:Nella sede della Biblioteca civica Bertoliana a Palazzo Cordellina\, un dialogo su Forme del bello tra oriente e occidente\, affidato a Marcello Ghilardi\, accademico olimpico\, docente di Estetica e Filosofia interculturale all’Università di Padova e componente del gruppo di ricerca sull’immaginario “Orbis Tertius” dell’Università Milano-Bicocca\, e a Pierantonio Tanzola\, pittore\, fotografo e film-maker. \nL’appuntamento rientra nella terza edizione del ciclo firmato dall’Accademia Olimpica in collaborazione con Gallerie d’Italia – Vicenza\, Conservatorio «Arrigo Pedrollo»\, Comune di Vicenza e Biblioteca civica Bertoliana. \nPer saperne di più
URL:https://accademiaolimpica.it/evento/dialoghi-di-mezza-estate-marcello-ghiardi-e-pierantonio-tanzola/
LOCATION:Biblioteca civica Bertoliana\, Contrà Riale\, 12\, Vicenza
CATEGORIES:Diritto ed Economia,Eventi,Lettere e Arti,Scienze e Tecnica
ORGANIZER;CN="Accademia Olimpica":MAILTO:segreteria@accademiaolimpica.it
END:VEVENT
BEGIN:VEVENT
DTSTART;TZID=Europe/Rome:20250521T163000
DTEND;TZID=Europe/Rome:20250521T180000
DTSTAMP:20260423T162454
CREATED:20250515T103712Z
LAST-MODIFIED:20250515T103905Z
UID:10000081-1747845000-1747850400@accademiaolimpica.it
SUMMARY:Marche\, imitazioni e contraffazioni: incontro con Carlo Marco Belfanti
DESCRIPTION:Alle 16.30\, nel polo universitario di viale Margherita\, 87 (Aula VM4)\, presentazione del libro Contraffatto ad arte. Storia della marca e del suo doppio (il Mulino\, 2024)\, scritto da Carlo Marco Belfanti\, professore ordinario del Dipartimento di Economia e management dell’Università di Brescia. \nL’incontro è organizzato dall’Accademia Olimpica in collaborazione con Vicenza UniVr Hub e Camera di Commercio. \nPer saperne di più
URL:https://accademiaolimpica.it/evento/marche-imitazioni-e-contraffazioni-incontro-con-carlo-marco-belfanti/
LOCATION:Complesso Universitario di Vicenza\, viale Margherita\, 87\, Vicenza
CATEGORIES:Diritto ed Economia,Eventi,Lettere e Arti,Scienze e Tecnica
ORGANIZER;CN="Accademia Olimpica":MAILTO:segreteria@accademiaolimpica.it
END:VEVENT
BEGIN:VEVENT
DTSTART;TZID=Europe/Rome:20250527T173000
DTEND;TZID=Europe/Rome:20250527T190000
DTSTAMP:20260423T162454
CREATED:20250515T081745Z
LAST-MODIFIED:20250515T081745Z
UID:10000078-1748367000-1748372400@accademiaolimpica.it
SUMMARY:Dialoghi di mezza estate: Vittorio Lingiardi e Sara Montagnese
DESCRIPTION:Una riflessione a due voci su Il corpo ritrovato\, in compagnia delo psichiatra e psicanalista Vittorio Lingiardi e dell’epatologa Sara Montagnese. \nL’appuntamento rientra nella terza edizione del ciclo firmato dall’Accademia Olimpica in collaborazione con Gallerie d’Italia – Vicenza\, Conservatorio «Arrigo Pedrollo»\, Comune di Vicenza e Biblioteca civica Bertoliana.
URL:https://accademiaolimpica.it/evento/dialoghi-di-mezza-estate-vittorio-lingiardi-e-sara-montagnese/
LOCATION:Gallerie d’Italia – Vicenza\, Contrà Santa Corona\, 25\, Vicenza\, 36100\, Italia
CATEGORIES:Diritto ed Economia,Eventi,Lettere e Arti,Scienze e Tecnica
ORGANIZER;CN="Accademia Olimpica":MAILTO:segreteria@accademiaolimpica.it
END:VEVENT
BEGIN:VEVENT
DTSTART;TZID=Europe/Rome:20250528T180000
DTEND;TZID=Europe/Rome:20250528T193000
DTSTAMP:20260423T162454
CREATED:20250522T162714Z
LAST-MODIFIED:20250522T162718Z
UID:10000082-1748455200-1748460600@accademiaolimpica.it
SUMMARY:Donato Bendicenti e l'Europa in un mondo che cambia
DESCRIPTION:Donato Bendicenti\, responsabile della Sede di Corrispondenza Rai di Bruxelles\, presenta a Vicenza\, per iniziativa dell’Accademia OLimpica\, il suo nuovo libro: Al centro della tempesta. L’Europa tra ordine mondiale e disordine globale\, pubblicato da Rai Libri – Luiss University Press.\nDialogheranno con lui Giovanni Luigi Fontana\, presidente dell’Accademia\, e gli accademici olimpici Ilvo Diamanti\, sociologo e politologo\, e Patrizia Messina\, docente del Dipartimento di Scienze politiche dell’Università di Padova. \nPer saperne di più
URL:https://accademiaolimpica.it/evento/donato-bendicenti-e-leuropa-in-un-mondo-che-cambia/
LOCATION:Odeo del Teatro Olimpico\, Largo Goethe\, 3\, Vicenza\, 36100\, Italia
CATEGORIES:Diritto ed Economia,Eventi,Lettere e Arti,Scienze e Tecnica
ATTACH;FMTTYPE=image/jpeg:https://accademiaolimpica.it/wp-content/uploads/2025/05/DBendicenti.jpg
ORGANIZER;CN="Accademia Olimpica":MAILTO:segreteria@accademiaolimpica.it
END:VEVENT
END:VCALENDAR