BEGIN:VCALENDAR
VERSION:2.0
PRODID:-//Accademia Olimpica - ECPv6.15.20//NONSGML v1.0//EN
CALSCALE:GREGORIAN
METHOD:PUBLISH
X-WR-CALNAME:Accademia Olimpica
X-ORIGINAL-URL:https://accademiaolimpica.it
X-WR-CALDESC:Eventi per Accademia Olimpica
REFRESH-INTERVAL;VALUE=DURATION:PT1H
X-Robots-Tag:noindex
X-PUBLISHED-TTL:PT1H
BEGIN:VTIMEZONE
TZID:Europe/Rome
BEGIN:DAYLIGHT
TZOFFSETFROM:+0100
TZOFFSETTO:+0200
TZNAME:CEST
DTSTART:20240331T010000
END:DAYLIGHT
BEGIN:STANDARD
TZOFFSETFROM:+0200
TZOFFSETTO:+0100
TZNAME:CET
DTSTART:20241027T010000
END:STANDARD
BEGIN:DAYLIGHT
TZOFFSETFROM:+0100
TZOFFSETTO:+0200
TZNAME:CEST
DTSTART:20250330T010000
END:DAYLIGHT
BEGIN:STANDARD
TZOFFSETFROM:+0200
TZOFFSETTO:+0100
TZNAME:CET
DTSTART:20251026T010000
END:STANDARD
BEGIN:DAYLIGHT
TZOFFSETFROM:+0100
TZOFFSETTO:+0200
TZNAME:CEST
DTSTART:20260329T010000
END:DAYLIGHT
BEGIN:STANDARD
TZOFFSETFROM:+0200
TZOFFSETTO:+0100
TZNAME:CET
DTSTART:20261025T010000
END:STANDARD
END:VTIMEZONE
BEGIN:VEVENT
DTSTART;TZID=Europe/Rome:20250417T170000
DTEND;TZID=Europe/Rome:20250417T190000
DTSTAMP:20260423T174846
CREATED:20250408T141031Z
LAST-MODIFIED:20250501T101220Z
UID:10000068-1744909200-1744916400@accademiaolimpica.it
SUMMARY:Presentazione del libro "Le parole della sostenibilità" di Andrea Ferrazzi
DESCRIPTION:Giovedì 17 aprile alle 17\, nell’Odeo del Teatro Olimpico\, l’autore sarà tra i protagonisti di un dialogo che proporrà diversi punti di vista sulla cultura ambientale e sulla sua urgenza. Tra gli ospiti\, anche l’assessore all’ambiente del Comune di Vicenza\, Sara Baldinato\, e il Vescovo\, mons. Giuliano Brugnotto. \nPer saperne di più
URL:https://accademiaolimpica.it/evento/presentazione-del-libro-le-paole-della-sostenibilita-di-andrea-fearrazzi/
LOCATION:Odeo del Teatro Olimpico\, Largo Goethe\, 3\, Vicenza\, 36100\, Italia
CATEGORIES:Diritto ed Economia,Eventi,Lettere e Arti,Scienze e Tecnica
ATTACH;FMTTYPE=image/png:https://accademiaolimpica.it/wp-content/uploads/2025/04/copertina_ferrazzi_sostenibilita-e1744121330440.png
ORGANIZER;CN="Accademia Olimpica":MAILTO:segreteria@accademiaolimpica.it
END:VEVENT
BEGIN:VEVENT
DTSTART;TZID=Europe/Rome:20250422T173000
DTEND;TZID=Europe/Rome:20250422T190000
DTSTAMP:20260423T174846
CREATED:20250410T105043Z
LAST-MODIFIED:20250410T105056Z
UID:10000069-1745343000-1745348400@accademiaolimpica.it
SUMMARY:Salute circolare: La salute del pianeta - Incontro con Paolo Vidali
DESCRIPTION:Primo dei quattro eventi in programma.\nQui il calendario completo
URL:https://accademiaolimpica.it/evento/salute-cvircolare-la-salute-del-pianeta-incontro-con-paolo-vidali/
LOCATION:Gallerie d’Italia – Vicenza\, Contrà Santa Corona\, 25\, Vicenza\, 36100\, Italia
CATEGORIES:Diritto ed Economia,Eventi,Lettere e Arti,Scienze e Tecnica
ORGANIZER;CN="Accademia Olimpica":MAILTO:segreteria@accademiaolimpica.it
END:VEVENT
BEGIN:VEVENT
DTSTART;TZID=Europe/Rome:20250424T170000
DTEND;TZID=Europe/Rome:20250424T190000
DTSTAMP:20260423T174846
CREATED:20250414T145510Z
LAST-MODIFIED:20250414T145510Z
UID:10000073-1745514000-1745521200@accademiaolimpica.it
SUMMARY:Guerre e Liberazione 80 anni dopo
DESCRIPTION:A 80 anni dalla fine della seconda guerra mondiale e dell’anniversario della Liberazione\, l’evento organizzato dall’Accademia Olimpica sarà aperto da un’introduzione del presidente\, Giovanni Luigi Fontana\, e verrà coordinato dall’accademico Emilio Franzina. Interventi di Mauro Passarin e Paolo Pozzato\, accademici olimpici\, e del generale di corpo d’armata Enrico Pino. In chiusura\, intervento di Ubaldo Alifuoco\, presidente dell’Associazione culturale 11 Settembre. \nPer saperne di più
URL:https://accademiaolimpica.it/evento/guerre-e-liberazione-80-anni-dopo/
LOCATION:Odeo del Teatro Olimpico\, Largo Goethe\, 3\, Vicenza\, 36100\, Italia
CATEGORIES:Diritto ed Economia,Eventi,Lettere e Arti,Scienze e Tecnica
ATTACH;FMTTYPE=image/jpeg:https://accademiaolimpica.it/wp-content/uploads/2025/04/locandina_liberazione_2025-e1744642481249.jpg
ORGANIZER;CN="Accademia Olimpica":MAILTO:segreteria@accademiaolimpica.it
END:VEVENT
BEGIN:VEVENT
DTSTART;TZID=Europe/Rome:20250429T173000
DTEND;TZID=Europe/Rome:20250429T190000
DTSTAMP:20260423T174847
CREATED:20250410T105305Z
LAST-MODIFIED:20250423T121347Z
UID:10000070-1745947800-1745953200@accademiaolimpica.it
SUMMARY:Salute circolare: La salute del pianeta - Incontro con Francesca Cagnacci
DESCRIPTION:Secondo incontro in programma. \nPer saperne di più \nQui il calendario completo
URL:https://accademiaolimpica.it/evento/salute-circolare-la-salute-del-pianeta-incontro-con-francesca-cagnacci/
LOCATION:Biblioteca civica Bertoliana\, Contrà Riale\, 12\, Vicenza
CATEGORIES:Diritto ed Economia,Eventi,Lettere e Arti,Scienze e Tecnica
ORGANIZER;CN="Accademia Olimpica":MAILTO:segreteria@accademiaolimpica.it
END:VEVENT
END:VCALENDAR