BEGIN:VCALENDAR
VERSION:2.0
PRODID:-//Accademia Olimpica - ECPv6.15.20//NONSGML v1.0//EN
CALSCALE:GREGORIAN
METHOD:PUBLISH
X-WR-CALNAME:Accademia Olimpica
X-ORIGINAL-URL:https://accademiaolimpica.it
X-WR-CALDESC:Eventi per Accademia Olimpica
REFRESH-INTERVAL;VALUE=DURATION:PT1H
X-Robots-Tag:noindex
X-PUBLISHED-TTL:PT1H
BEGIN:VTIMEZONE
TZID:Europe/Rome
BEGIN:DAYLIGHT
TZOFFSETFROM:+0100
TZOFFSETTO:+0200
TZNAME:CEST
DTSTART:20240331T010000
END:DAYLIGHT
BEGIN:STANDARD
TZOFFSETFROM:+0200
TZOFFSETTO:+0100
TZNAME:CET
DTSTART:20241027T010000
END:STANDARD
BEGIN:DAYLIGHT
TZOFFSETFROM:+0100
TZOFFSETTO:+0200
TZNAME:CEST
DTSTART:20250330T010000
END:DAYLIGHT
BEGIN:STANDARD
TZOFFSETFROM:+0200
TZOFFSETTO:+0100
TZNAME:CET
DTSTART:20251026T010000
END:STANDARD
BEGIN:DAYLIGHT
TZOFFSETFROM:+0100
TZOFFSETTO:+0200
TZNAME:CEST
DTSTART:20260329T010000
END:DAYLIGHT
BEGIN:STANDARD
TZOFFSETFROM:+0200
TZOFFSETTO:+0100
TZNAME:CET
DTSTART:20261025T010000
END:STANDARD
END:VTIMEZONE
BEGIN:VEVENT
DTSTART;TZID=Europe/Rome:20250302T150000
DTEND;TZID=Europe/Rome:20250302T163000
DTSTAMP:20260423T191839
CREATED:20250217T082544Z
LAST-MODIFIED:20250217T082700Z
UID:10000062-1740927600-1740933000@accademiaolimpica.it
SUMMARY:L'Accademia alla fiera dell'editoria Feminism a Roma
DESCRIPTION:L’Accademia sarà presente all’ottava edizione della fiera dell’editoria Feminism\, in programma a Roma dal 28 febbraio al 3 marzo. In particolare\, domenica 2 marzo alle 15\, presentazione del carteggio tra Antonio Fogazzaro e la figlia Gina\, in corso di stampa. \nPer saperne di più
URL:https://accademiaolimpica.it/evento/laccademia-alla-fiera-delleditoria-feminis-a-roma/
CATEGORIES:Eventi,Lettere e Arti
ATTACH;FMTTYPE=image/jpeg:https://accademiaolimpica.it/wp-content/uploads/2025/02/Copertina_Carteggio_FogazzaroGina-e1739780439262.jpg
ORGANIZER;CN="Accademia Olimpica":MAILTO:segreteria@accademiaolimpica.it
END:VEVENT
BEGIN:VEVENT
DTSTART;TZID=Europe/Rome:20250303T163000
DTEND;TZID=Europe/Rome:20250303T183000
DTSTAMP:20260423T191839
CREATED:20250225T101421Z
LAST-MODIFIED:20250225T101625Z
UID:10000063-1741019400-1741026600@accademiaolimpica.it
SUMMARY:L'Olimpico di Vicenza: un teatro e la sua «perpetua memoria»
DESCRIPTION:Prendono il via le celebrazioni per il 470° dalla nascita dell’Accademia Olimpica e per il 440° del Teatro Olimpico\, che essa fece edificare su progetto di Andrea Palladio\, tra i suoi fondatori.\nLunedì 3 marzo (proprio nel giorno in cui nel 1585 all’Olimpico andò in scena il primo spettacolo\, l’Edipo tiranno di Sofocle)\, l’Accademia propone un appuntamento per presentare la nuova edizione del libro di Stefano Mazzoni dedicato al teatro palladiano e l’avvio della messa in rete del proprio Archivio Antico\, completamente digitalizzato.
URL:https://accademiaolimpica.it/evento/lolimpico-di-vicenza-un-teatro-e-la-sua-perpetua-memoria/
LOCATION:Odeo del Teatro Olimpico\, Largo Goethe\, 3\, Vicenza\, 36100\, Italia
CATEGORIES:Diritto ed Economia,Eventi,Lettere e Arti,Scienze e Tecnica
ATTACH;FMTTYPE=image/jpeg:https://accademiaolimpica.it/wp-content/uploads/2020/11/laboratorio-olimpico_2020_ph_STEFANO-BODINETTI-e1605283370933.jpg
ORGANIZER;CN="Accademia Olimpica":MAILTO:segreteria@accademiaolimpica.it
END:VEVENT
BEGIN:VEVENT
DTSTART;TZID=Europe/Rome:20250307T163000
DTEND;TZID=Europe/Rome:20250307T183000
DTSTAMP:20260423T191839
CREATED:20250228T141513Z
LAST-MODIFIED:20250228T141513Z
UID:10000065-1741365000-1741372200@accademiaolimpica.it
SUMMARY:Vittoria Colonna fra Michelangelo e gli spirituali
DESCRIPTION:L’Accademia Olimpica organizza per venerdì 7 marzo alle 15.30\, nell’Odeo del Teatro Olimpico\, un incontro dal titolo Vittoria Colonna fra Michelangelo e gli spirituali. Introduzione dell’accademica olimpica Adriana Chemello\, relazione della storica dell’arte Elena Filippi. Esecuzione di madrigali da sonetti di Vittoria Colonna affidata a Teatro Armonico\, dir. Margherita Dalla Vecchia. \nPer saperne di più
URL:https://accademiaolimpica.it/evento/vittoria-colonna-fra-michelangelo-e-gli-spirituali/
LOCATION:Odeo del Teatro Olimpico\, Largo Goethe\, 3\, Vicenza\, 36100\, Italia
CATEGORIES:Eventi,Lettere e Arti
ATTACH;FMTTYPE=image/jpeg:https://accademiaolimpica.it/wp-content/uploads/2025/02/Locandina-Vittoria-Colonna-e-Michelangelo-7-marzo_ok.jpg
ORGANIZER;CN="Accademia Olimpica":MAILTO:segreteria@accademiaolimpica.it
END:VEVENT
BEGIN:VEVENT
DTSTART;TZID=Europe/Rome:20250330T170000
DTEND;TZID=Europe/Rome:20250330T193000
DTSTAMP:20260423T191839
CREATED:20250314T083215Z
LAST-MODIFIED:20250314T130340Z
UID:10000067-1743354000-1743363000@accademiaolimpica.it
SUMMARY:Cantata in onore di Andrea Palladio: concerto all'Olimpico
DESCRIPTION:Concerto organizzato dall’Accademia Olimpica in partenariato con la Camera di Commercio di Vicenza e in collaborazione con il Comune di Vicenza. L’evento rientra nel programma delle celebrazioni per il 470° della fondazione dell’Accademia Olimpica e il 440° dall’inaugurazione del Teatro Olimpico. \nore 17 – Odeo del Teatro Olimpico\, Introduzione al concerto con Renato Calza\, accademico olimpico\, sul tema Canneti e le ‘feste palladiane’ del 1880. Ingresso libero fino a esaurimento posti \nore 18 – Apertura porte Teatro Olimpico\nore 18.30 – Teatro Olimpico\, Concerto. Ingresso gratuito con prenotazione obbligatoria a questo link
URL:https://accademiaolimpica.it/evento/cantata-in-onore-di-andrea-palladio-concerto-allolimpico/
LOCATION:Teatro Olimpico\, Largo Goethe\, 3\, Vicenza\, 36100\, Italia
CATEGORIES:Diritto ed Economia,Eventi,Lettere e Arti,Scienze e Tecnica
ATTACH;FMTTYPE=image/jpeg:https://accademiaolimpica.it/wp-content/uploads/2025/03/Coro-e-Orchestra-Andrea-Palladio.jpg
ORGANIZER;CN="Accademia Olimpica":MAILTO:segreteria@accademiaolimpica.it
END:VEVENT
END:VCALENDAR