BEGIN:VCALENDAR
VERSION:2.0
PRODID:-//Accademia Olimpica - ECPv6.15.20//NONSGML v1.0//EN
CALSCALE:GREGORIAN
METHOD:PUBLISH
X-ORIGINAL-URL:https://accademiaolimpica.it
X-WR-CALDESC:Eventi per Accademia Olimpica
REFRESH-INTERVAL;VALUE=DURATION:PT1H
X-Robots-Tag:noindex
X-PUBLISHED-TTL:PT1H
BEGIN:VTIMEZONE
TZID:Europe/Rome
BEGIN:DAYLIGHT
TZOFFSETFROM:+0100
TZOFFSETTO:+0200
TZNAME:CEST
DTSTART:20240331T010000
END:DAYLIGHT
BEGIN:STANDARD
TZOFFSETFROM:+0200
TZOFFSETTO:+0100
TZNAME:CET
DTSTART:20241027T010000
END:STANDARD
BEGIN:DAYLIGHT
TZOFFSETFROM:+0100
TZOFFSETTO:+0200
TZNAME:CEST
DTSTART:20250330T010000
END:DAYLIGHT
BEGIN:STANDARD
TZOFFSETFROM:+0200
TZOFFSETTO:+0100
TZNAME:CET
DTSTART:20251026T010000
END:STANDARD
BEGIN:DAYLIGHT
TZOFFSETFROM:+0100
TZOFFSETTO:+0200
TZNAME:CEST
DTSTART:20260329T010000
END:DAYLIGHT
BEGIN:STANDARD
TZOFFSETFROM:+0200
TZOFFSETTO:+0100
TZNAME:CET
DTSTART:20261025T010000
END:STANDARD
END:VTIMEZONE
BEGIN:VEVENT
DTSTART;TZID=Europe/Rome:20250116T150000
DTEND;TZID=Europe/Rome:20250116T173000
DTSTAMP:20260423T233440
CREATED:20250107T085659Z
LAST-MODIFIED:20250107T090629Z
UID:10000058-1737039600-1737048600@accademiaolimpica.it
SUMMARY:Convegno | Tendenze demografiche e sviluppo economico: una convivenza possibile?
DESCRIPTION:Giovedì 16 gennaio alle 15\, nell’Odeo del Teatro Olimpico\, appuntamento con il convegno Tendenze demografiche e sviluppo economico: una convivenza possibile?\, promosso dalla Banca d’Italia in collaborazione con Accademia Olimpica\, Unioncamere Veneto e Veneto Lavoro.\nIscrizioni entro il 10 gennaio a questo link https://sondaggi.bancaditalia.it/web/585118?lang=it\nFino a esaurimento dei posti disponibili.
URL:https://accademiaolimpica.it/evento/convegno-tendenze-demografiche-e-sviluppo-economico-una-convivenza-possibile/
LOCATION:Odeo del Teatro Olimpico\, Largo Goethe\, 3\, Vicenza\, 36100\, Italia
CATEGORIES:Diritto ed Economia,Eventi,Lettere e Arti,Scienze e Tecnica
ATTACH;FMTTYPE=image/jpeg:https://accademiaolimpica.it/wp-content/uploads/2025/01/pag-copertina_sito-e1736240715446.jpg
ORGANIZER;CN="Accademia Olimpica":MAILTO:segreteria@accademiaolimpica.it
END:VEVENT
END:VCALENDAR