BEGIN:VCALENDAR
VERSION:2.0
PRODID:-//Accademia Olimpica - ECPv6.15.20//NONSGML v1.0//EN
CALSCALE:GREGORIAN
METHOD:PUBLISH
X-ORIGINAL-URL:https://accademiaolimpica.it
X-WR-CALDESC:Eventi per Accademia Olimpica
REFRESH-INTERVAL;VALUE=DURATION:PT1H
X-Robots-Tag:noindex
X-PUBLISHED-TTL:PT1H
BEGIN:VTIMEZONE
TZID:Europe/Rome
BEGIN:DAYLIGHT
TZOFFSETFROM:+0100
TZOFFSETTO:+0200
TZNAME:CEST
DTSTART:20250330T010000
END:DAYLIGHT
BEGIN:STANDARD
TZOFFSETFROM:+0200
TZOFFSETTO:+0100
TZNAME:CET
DTSTART:20251026T010000
END:STANDARD
BEGIN:DAYLIGHT
TZOFFSETFROM:+0100
TZOFFSETTO:+0200
TZNAME:CEST
DTSTART:20260329T010000
END:DAYLIGHT
BEGIN:STANDARD
TZOFFSETFROM:+0200
TZOFFSETTO:+0100
TZNAME:CET
DTSTART:20261025T010000
END:STANDARD
BEGIN:DAYLIGHT
TZOFFSETFROM:+0100
TZOFFSETTO:+0200
TZNAME:CEST
DTSTART:20270328T010000
END:DAYLIGHT
BEGIN:STANDARD
TZOFFSETFROM:+0200
TZOFFSETTO:+0100
TZNAME:CET
DTSTART:20271031T010000
END:STANDARD
END:VTIMEZONE
BEGIN:VEVENT
DTSTART;TZID=Europe/Rome:20260307T163000
DTEND;TZID=Europe/Rome:20260307T183000
DTSTAMP:20260422T223920
CREATED:20260224T113130Z
LAST-MODIFIED:20260224T113130Z
UID:10000127-1772901000-1772908200@accademiaolimpica.it
SUMMARY:Un convegno su Bruno Brandellero\, "Giusto dell'umanità"
DESCRIPTION:Iniziativa di Accademia Olimpca\, Anpi\, Istrevi e Comuni di Schio\, Valli del Pasubio e Marano Vicntino.Interventi di Marcello Flores\, Mirco Carrattieri e Ugo De Grandis. Introduzione di Giovanni Luigi Fontana. Conclusioni di Alba Lazzaretto. \nPer saperne di più
URL:https://accademiaolimpica.it/evento/un-convegno-su-bruno-brandellero-giusto-dellumanita/
LOCATION:Odeo del Teatro Olimpico\, Largo Goethe\, 3\, Vicenza\, 36100\, Italia
CATEGORIES:Diritto ed Economia,Eventi,Lettere e Arti,Scienze e Tecnica
ATTACH;FMTTYPE=image/jpeg:https://accademiaolimpica.it/wp-content/uploads/2026/02/bruno-brandellero.jpg
ORGANIZER;CN="Accademia Olimpica":MAILTO:segreteria@accademiaolimpica.it
END:VEVENT
END:VCALENDAR