BEGIN:VCALENDAR
VERSION:2.0
PRODID:-//Accademia Olimpica - ECPv6.15.20//NONSGML v1.0//EN
CALSCALE:GREGORIAN
METHOD:PUBLISH
X-ORIGINAL-URL:https://accademiaolimpica.it
X-WR-CALDESC:Eventi per Accademia Olimpica
REFRESH-INTERVAL;VALUE=DURATION:PT1H
X-Robots-Tag:noindex
X-PUBLISHED-TTL:PT1H
BEGIN:VTIMEZONE
TZID:Europe/Rome
BEGIN:DAYLIGHT
TZOFFSETFROM:+0100
TZOFFSETTO:+0200
TZNAME:CEST
DTSTART:20230326T010000
END:DAYLIGHT
BEGIN:STANDARD
TZOFFSETFROM:+0200
TZOFFSETTO:+0100
TZNAME:CET
DTSTART:20231029T010000
END:STANDARD
BEGIN:DAYLIGHT
TZOFFSETFROM:+0100
TZOFFSETTO:+0200
TZNAME:CEST
DTSTART:20240331T010000
END:DAYLIGHT
BEGIN:STANDARD
TZOFFSETFROM:+0200
TZOFFSETTO:+0100
TZNAME:CET
DTSTART:20241027T010000
END:STANDARD
BEGIN:DAYLIGHT
TZOFFSETFROM:+0100
TZOFFSETTO:+0200
TZNAME:CEST
DTSTART:20250330T010000
END:DAYLIGHT
BEGIN:STANDARD
TZOFFSETFROM:+0200
TZOFFSETTO:+0100
TZNAME:CET
DTSTART:20251026T010000
END:STANDARD
END:VTIMEZONE
BEGIN:VEVENT
DTSTART;TZID=Europe/Rome:20241108T100000
DTEND;TZID=Europe/Rome:20241109T200000
DTSTAMP:20260424T160634
CREATED:20241031T164231Z
LAST-MODIFIED:20241031T164231Z
UID:10000050-1731060000-1731182400@accademiaolimpica.it
SUMMARY:XIX Laboratorio Olimpico: storie perdute del Teatro Greco
DESCRIPTION:Nuova edizione del progetto dell’Accadmeia che collega teatro antico e scena contemporanea.\nInfo e programma
URL:https://accademiaolimpica.it/evento/xix-laboratorio-olimpico-storie-perdute-del-teatro-greco/
LOCATION:Teatro Olimpico\, Largo Goethe\, 3\, Vicenza\, 36100\, Italia
CATEGORIES:Eventi
ORGANIZER;CN="Accademia Olimpica":MAILTO:segreteria@accademiaolimpica.it
END:VEVENT
END:VCALENDAR